BEGIN:VCALENDAR
VERSION:2.0
PRODID:-//RSHECC - ECPv6.15.20//NONSGML v1.0//EN
CALSCALE:GREGORIAN
METHOD:PUBLISH
X-WR-CALNAME:RSHECC
X-ORIGINAL-URL:https://rshecc.es
X-WR-CALDESC:Eventos para RSHECC
REFRESH-INTERVAL;VALUE=DURATION:PT1H
X-Robots-Tag:noindex
X-PUBLISHED-TTL:PT1H
BEGIN:VTIMEZONE
TZID:Europe/Madrid
BEGIN:DAYLIGHT
TZOFFSETFROM:+0100
TZOFFSETTO:+0200
TZNAME:CEST
DTSTART:20200329T010000
END:DAYLIGHT
BEGIN:STANDARD
TZOFFSETFROM:+0200
TZOFFSETTO:+0100
TZNAME:CET
DTSTART:20201025T010000
END:STANDARD
BEGIN:DAYLIGHT
TZOFFSETFROM:+0100
TZOFFSETTO:+0200
TZNAME:CEST
DTSTART:20210328T010000
END:DAYLIGHT
BEGIN:STANDARD
TZOFFSETFROM:+0200
TZOFFSETTO:+0100
TZNAME:CET
DTSTART:20211031T010000
END:STANDARD
BEGIN:DAYLIGHT
TZOFFSETFROM:+0100
TZOFFSETTO:+0200
TZNAME:CEST
DTSTART:20220327T010000
END:DAYLIGHT
BEGIN:STANDARD
TZOFFSETFROM:+0200
TZOFFSETTO:+0100
TZNAME:CET
DTSTART:20221030T010000
END:STANDARD
END:VTIMEZONE
BEGIN:VEVENT
DTSTART;TZID=Europe/Madrid:20210213T083000
DTEND;TZID=Europe/Madrid:20210213T130000
DTSTAMP:20260422T104435
CREATED:20210204T072537Z
LAST-MODIFIED:20210209T130904Z
UID:4901-1613205000-1613221200@rshecc.es
SUMMARY:Golf: Hándicaps Altos
DESCRIPTION:
URL:https://rshecc.es/evento/golf-handicaps-altos/
CATEGORIES:Golf
ATTACH;FMTTYPE=image/jpeg:https://rshecc.es/wp-content/uploads/2020/11/event-golf.jpg
END:VEVENT
BEGIN:VEVENT
DTSTART;TZID=Europe/Madrid:20210213T100000
DTEND;TZID=Europe/Madrid:20210213T150000
DTSTAMP:20260422T104435
CREATED:20210204T072736Z
LAST-MODIFIED:20210204T072736Z
UID:4903-1613210400-1613228400@rshecc.es
SUMMARY:Golf: Greensome Damas Pares 3
DESCRIPTION:
URL:https://rshecc.es/evento/golf-greensome-damas-pares-3/
CATEGORIES:Golf
ATTACH;FMTTYPE=image/jpeg:https://rshecc.es/wp-content/uploads/2021/02/events-golf-woman.jpg
END:VEVENT
BEGIN:VEVENT
DTSTART;TZID=Europe/Madrid:20210214T083000
DTEND;TZID=Europe/Madrid:20210214T130000
DTSTAMP:20260422T104435
CREATED:20210204T072850Z
LAST-MODIFIED:20210204T072850Z
UID:4906-1613291400-1613307600@rshecc.es
SUMMARY:Golf: Liga Parejas Invierno (Fourball)
DESCRIPTION:
URL:https://rshecc.es/evento/golf-liga-parejas-invierno-fourball/
CATEGORIES:Golf
ATTACH;FMTTYPE=image/jpeg:https://rshecc.es/wp-content/uploads/2020/11/event-golf.jpg
END:VEVENT
BEGIN:VEVENT
DTSTART;TZID=Europe/Madrid:20210214T083000
DTEND;TZID=Europe/Madrid:20210214T150000
DTSTAMP:20260422T104435
CREATED:20210204T073015Z
LAST-MODIFIED:20210204T073015Z
UID:4908-1613291400-1613314800@rshecc.es
SUMMARY:Golf: Juvenil
DESCRIPTION:
URL:https://rshecc.es/evento/golf-juvenil/
CATEGORIES:Golf
ATTACH;FMTTYPE=image/jpeg:https://rshecc.es/wp-content/uploads/2021/02/events-golf-juvenil2.jpg
END:VEVENT
BEGIN:VEVENT
DTSTART;TZID=Europe/Madrid:20210217T100000
DTEND;TZID=Europe/Madrid:20210217T130000
DTSTAMP:20260422T104435
CREATED:20210204T073140Z
LAST-MODIFIED:20210204T073140Z
UID:4911-1613556000-1613566800@rshecc.es
SUMMARY:Golf: Puntuable Damas y Caballeros
DESCRIPTION:
URL:https://rshecc.es/evento/golf-puntuable-damas-y-caballeros/
CATEGORIES:Golf
ATTACH;FMTTYPE=image/jpeg:https://rshecc.es/wp-content/uploads/2021/01/events-golf-mix.jpg
END:VEVENT
BEGIN:VEVENT
DTSTART;TZID=Europe/Madrid:20210222T100000
DTEND;TZID=Europe/Madrid:20210222T130000
DTSTAMP:20260422T104435
CREATED:20210204T073258Z
LAST-MODIFIED:20210204T073258Z
UID:4913-1613988000-1613998800@rshecc.es
SUMMARY:Golf: Social Damas
DESCRIPTION:
URL:https://rshecc.es/evento/golf-social-damas/
CATEGORIES:Golf
ATTACH;FMTTYPE=image/jpeg:https://rshecc.es/wp-content/uploads/2021/02/events-golf-woman.jpg
END:VEVENT
END:VCALENDAR