BEGIN:VCALENDAR
VERSION:2.0
PRODID:-//RSHECC - ECPv6.15.20//NONSGML v1.0//EN
CALSCALE:GREGORIAN
METHOD:PUBLISH
X-ORIGINAL-URL:https://rshecc.es
X-WR-CALDESC:Eventos para RSHECC
REFRESH-INTERVAL;VALUE=DURATION:PT1H
X-Robots-Tag:noindex
X-PUBLISHED-TTL:PT1H
BEGIN:VTIMEZONE
TZID:Europe/Madrid
BEGIN:DAYLIGHT
TZOFFSETFROM:+0100
TZOFFSETTO:+0200
TZNAME:CEST
DTSTART:20200329T010000
END:DAYLIGHT
BEGIN:STANDARD
TZOFFSETFROM:+0200
TZOFFSETTO:+0100
TZNAME:CET
DTSTART:20201025T010000
END:STANDARD
BEGIN:DAYLIGHT
TZOFFSETFROM:+0100
TZOFFSETTO:+0200
TZNAME:CEST
DTSTART:20210328T010000
END:DAYLIGHT
BEGIN:STANDARD
TZOFFSETFROM:+0200
TZOFFSETTO:+0100
TZNAME:CET
DTSTART:20211031T010000
END:STANDARD
BEGIN:DAYLIGHT
TZOFFSETFROM:+0100
TZOFFSETTO:+0200
TZNAME:CEST
DTSTART:20220327T010000
END:DAYLIGHT
BEGIN:STANDARD
TZOFFSETFROM:+0200
TZOFFSETTO:+0100
TZNAME:CET
DTSTART:20221030T010000
END:STANDARD
END:VTIMEZONE
BEGIN:VEVENT
DTSTART;TZID=Europe/Madrid:20210511T100000
DTEND;TZID=Europe/Madrid:20210511T140000
DTSTAMP:20260422T072231
CREATED:20210427T092155Z
LAST-MODIFIED:20210427T092155Z
UID:5385-1620727200-1620741600@rshecc.es
SUMMARY:Match Damas Primavera 2021
DESCRIPTION:Equipos
URL:https://rshecc.es/evento/match-damas-primavera-2021/
CATEGORIES:Golf
ATTACH;FMTTYPE=image/jpeg:https://rshecc.es/wp-content/uploads/2021/04/events-golf-woman.jpg
END:VEVENT
BEGIN:VEVENT
DTSTART;TZID=Europe/Madrid:20210516T100000
DTEND;TZID=Europe/Madrid:20210516T150000
DTSTAMP:20260422T072231
CREATED:20210427T073457Z
LAST-MODIFIED:20210427T073704Z
UID:5362-1621159200-1621177200@rshecc.es
SUMMARY:Liga de Damas Pares 3
DESCRIPTION:Stableford
URL:https://rshecc.es/evento/liga-de-damas-pares-3/
CATEGORIES:Golf
ATTACH;FMTTYPE=image/jpeg:https://rshecc.es/wp-content/uploads/2021/04/events-golf-woman.jpg
END:VEVENT
BEGIN:VEVENT
DTSTART;TZID=Europe/Madrid:20210516T100000
DTEND;TZID=Europe/Madrid:20210516T150000
DTSTAMP:20260422T072231
CREATED:20210427T073641Z
LAST-MODIFIED:20210427T073641Z
UID:5365-1621159200-1621177200@rshecc.es
SUMMARY:Puntuable Juvenil Pares 3
DESCRIPTION:Stableford
URL:https://rshecc.es/evento/puntuable-juvenil-pares-3/
CATEGORIES:Golf
ATTACH;FMTTYPE=image/jpeg:https://rshecc.es/wp-content/uploads/2021/04/events-golf-juvenil.jpg
END:VEVENT
BEGIN:VEVENT
DTSTART;TZID=Europe/Madrid:20210517T100000
DTEND;TZID=Europe/Madrid:20210517T140000
DTSTAMP:20260422T072231
CREATED:20210427T080706Z
LAST-MODIFIED:20210427T080706Z
UID:5377-1621245600-1621260000@rshecc.es
SUMMARY:Social Séniores Caballeros
DESCRIPTION:Stableford
URL:https://rshecc.es/evento/social-seniores-caballeros/
CATEGORIES:Golf
ATTACH;FMTTYPE=image/jpeg:https://rshecc.es/wp-content/uploads/2021/04/events-golf.jpg
END:VEVENT
BEGIN:VEVENT
DTSTART;TZID=Europe/Madrid:20210519T100000
DTEND;TZID=Europe/Madrid:20210519T140000
DTSTAMP:20260422T072231
CREATED:20210427T080915Z
LAST-MODIFIED:20210427T080915Z
UID:5380-1621418400-1621432800@rshecc.es
SUMMARY:Puntuable Damas y Caballeros
DESCRIPTION:Stableford
URL:https://rshecc.es/evento/puntuable-damas-y-caballeros/
CATEGORIES:Golf
ATTACH;FMTTYPE=image/jpeg:https://rshecc.es/wp-content/uploads/2021/04/events-golf-mix.jpg
END:VEVENT
BEGIN:VEVENT
DTSTART;TZID=Europe/Madrid:20210522T140000
DTEND;TZID=Europe/Madrid:20210522T160000
DTSTAMP:20260422T072231
CREATED:20210517T101155Z
LAST-MODIFIED:20210520T081308Z
UID:5546-1621692000-1621699200@rshecc.es
SUMMARY:Liga Damas 9 Hoyos Largos
DESCRIPTION:Stableford
URL:https://rshecc.es/evento/liga-damas-9-hoyos-largos/
CATEGORIES:Golf
ATTACH;FMTTYPE=image/jpeg:https://rshecc.es/wp-content/uploads/2021/04/events-golf-woman.jpg
END:VEVENT
BEGIN:VEVENT
DTSTART;TZID=Europe/Madrid:20210522T140000
DTEND;TZID=Europe/Madrid:20210522T160000
DTSTAMP:20260422T072231
CREATED:20210517T101354Z
LAST-MODIFIED:20210520T081300Z
UID:5548-1621692000-1621699200@rshecc.es
SUMMARY:Puntuable Juvenil 9 Hoyos Largos
DESCRIPTION:Stableford
URL:https://rshecc.es/evento/puntuable-juvenil-9-hoyos-largos-2/
CATEGORIES:Golf
ATTACH;FMTTYPE=image/jpeg:https://rshecc.es/wp-content/uploads/2021/04/events-golf-juvenil2.jpg
END:VEVENT
BEGIN:VEVENT
DTSTART;TZID=Europe/Madrid:20210529T083000
DTEND;TZID=Europe/Madrid:20210529T150000
DTSTAMP:20260422T072231
CREATED:20210517T101510Z
LAST-MODIFIED:20210520T125840Z
UID:5550-1622277000-1622300400@rshecc.es
SUMMARY:Social Inicio de Temporada (sábado 29 de mayo)
DESCRIPTION:Stableford
URL:https://rshecc.es/evento/social-inicio-de-temporada/
CATEGORIES:Golf
ATTACH;FMTTYPE=image/jpeg:https://rshecc.es/wp-content/uploads/2021/04/events-golf-mix.jpg
END:VEVENT
BEGIN:VEVENT
DTSTART;TZID=Europe/Madrid:20210530T083000
DTEND;TZID=Europe/Madrid:20210530T150000
DTSTAMP:20260422T072231
CREATED:20210520T125936Z
LAST-MODIFIED:20210520T125936Z
UID:5623-1622363400-1622386800@rshecc.es
SUMMARY:Social Inicio de Temporada (domingo 30 de mayo)
DESCRIPTION:Stableford
URL:https://rshecc.es/evento/social-inicio-de-temporada-domingo-30-de-mayo/
CATEGORIES:Golf
ATTACH;FMTTYPE=image/jpeg:https://rshecc.es/wp-content/uploads/2021/04/events-golf-mix.jpg
END:VEVENT
END:VCALENDAR