BEGIN:VCALENDAR
VERSION:2.0
PRODID:-//RSHECC - ECPv6.15.20//NONSGML v1.0//EN
CALSCALE:GREGORIAN
METHOD:PUBLISH
X-ORIGINAL-URL:https://rshecc.es
X-WR-CALDESC:Eventos para RSHECC
REFRESH-INTERVAL;VALUE=DURATION:PT1H
X-Robots-Tag:noindex
X-PUBLISHED-TTL:PT1H
BEGIN:VTIMEZONE
TZID:Europe/Madrid
BEGIN:DAYLIGHT
TZOFFSETFROM:+0100
TZOFFSETTO:+0200
TZNAME:CEST
DTSTART:20210328T010000
END:DAYLIGHT
BEGIN:STANDARD
TZOFFSETFROM:+0200
TZOFFSETTO:+0100
TZNAME:CET
DTSTART:20211031T010000
END:STANDARD
BEGIN:DAYLIGHT
TZOFFSETFROM:+0100
TZOFFSETTO:+0200
TZNAME:CEST
DTSTART:20220327T010000
END:DAYLIGHT
BEGIN:STANDARD
TZOFFSETFROM:+0200
TZOFFSETTO:+0100
TZNAME:CET
DTSTART:20221030T010000
END:STANDARD
BEGIN:DAYLIGHT
TZOFFSETFROM:+0100
TZOFFSETTO:+0200
TZNAME:CEST
DTSTART:20230326T010000
END:DAYLIGHT
BEGIN:STANDARD
TZOFFSETFROM:+0200
TZOFFSETTO:+0100
TZNAME:CET
DTSTART:20231029T010000
END:STANDARD
END:VTIMEZONE
BEGIN:VEVENT
DTSTART;VALUE=DATE:20220206
DTEND;VALUE=DATE:20220207
DTSTAMP:20260421T204902
CREATED:20211220T083733Z
LAST-MODIFIED:20220202T163724Z
UID:7357-1644105600-1644191999@rshecc.es
SUMMARY:Juvenil
DESCRIPTION:Individual Stableford
URL:https://rshecc.es/evento/juvenil-5/
CATEGORIES:Golf
ATTACH;FMTTYPE=image/jpeg:https://rshecc.es/wp-content/uploads/2021/04/events-golf-juvenil.jpg
END:VEVENT
BEGIN:VEVENT
DTSTART;VALUE=DATE:20220209
DTEND;VALUE=DATE:20220210
DTSTAMP:20260421T204902
CREATED:20211220T084117Z
LAST-MODIFIED:20220110T073309Z
UID:7363-1644364800-1644451199@rshecc.es
SUMMARY:Puntuable Damas y Caballeros
DESCRIPTION:Individual Stableford
URL:https://rshecc.es/evento/puntuable-damas-y-caballeros-8/
CATEGORIES:Golf
ATTACH;FMTTYPE=image/jpeg:https://rshecc.es/wp-content/uploads/2021/05/event-golf-summer.jpg
END:VEVENT
BEGIN:VEVENT
DTSTART;VALUE=DATE:20220212
DTEND;VALUE=DATE:20220213
DTSTAMP:20260421T204902
CREATED:20211220T083829Z
LAST-MODIFIED:20211222T064129Z
UID:7359-1644624000-1644710399@rshecc.es
SUMMARY:Juvenil
DESCRIPTION:Individual Stableford
URL:https://rshecc.es/evento/juvenil-6/
CATEGORIES:Golf
ATTACH;FMTTYPE=image/jpeg:https://rshecc.es/wp-content/uploads/2021/04/events-golf-juvenil.jpg
END:VEVENT
BEGIN:VEVENT
DTSTART;VALUE=DATE:20220213
DTEND;VALUE=DATE:20220214
DTSTAMP:20260421T204902
CREATED:20211220T084015Z
LAST-MODIFIED:20211220T084015Z
UID:7361-1644710400-1644796799@rshecc.es
SUMMARY:Hándicaps Altos
DESCRIPTION:Individual Stableford
URL:https://rshecc.es/evento/handicaps-altos-4/
CATEGORIES:Golf
ATTACH;FMTTYPE=image/jpeg:https://rshecc.es/wp-content/uploads/2021/01/events-golf-mix.jpg
END:VEVENT
BEGIN:VEVENT
DTSTART;VALUE=DATE:20220219
DTEND;VALUE=DATE:20220220
DTSTAMP:20260421T204902
CREATED:20211220T084234Z
LAST-MODIFIED:20211220T084234Z
UID:7365-1645228800-1645315199@rshecc.es
SUMMARY:Liga de Parejas Invierno (segunda prueba)
DESCRIPTION:Parejas Stableford Scramble
URL:https://rshecc.es/evento/liga-de-parejas-invierno-segunda-prueba/
CATEGORIES:Golf
ATTACH;FMTTYPE=image/jpeg:https://rshecc.es/wp-content/uploads/2020/11/event-golf.jpg
END:VEVENT
BEGIN:VEVENT
DTSTART;VALUE=DATE:20220220
DTEND;VALUE=DATE:20220221
DTSTAMP:20260421T204902
CREATED:20211220T111832Z
LAST-MODIFIED:20211220T111832Z
UID:7378-1645315200-1645401599@rshecc.es
SUMMARY:Puntuable Juvenil 9 Hoyos Largos
DESCRIPTION:Individual Stableford
URL:https://rshecc.es/evento/puntuable-juvenil-9-hoyos-largos-4/
CATEGORIES:Golf
ATTACH;FMTTYPE=image/jpeg:https://rshecc.es/wp-content/uploads/2021/04/events-golf-juvenil2.jpg
END:VEVENT
BEGIN:VEVENT
DTSTART;VALUE=DATE:20220220
DTEND;VALUE=DATE:20220221
DTSTAMP:20260421T204902
CREATED:20211220T111712Z
LAST-MODIFIED:20211220T111722Z
UID:7375-1645315200-1645401599@rshecc.es
SUMMARY:Liga Damas
DESCRIPTION:Individual Stableford
URL:https://rshecc.es/evento/liga-damas/
CATEGORIES:Golf
ATTACH;FMTTYPE=image/jpeg:https://rshecc.es/wp-content/uploads/2021/02/events-golf-woman.jpg
END:VEVENT
BEGIN:VEVENT
DTSTART;VALUE=DATE:20220223
DTEND;VALUE=DATE:20220224
DTSTAMP:20260421T204902
CREATED:20211220T112001Z
LAST-MODIFIED:20220221T063237Z
UID:7380-1645574400-1645660799@rshecc.es
SUMMARY:GOLF: Social Damas
DESCRIPTION:Individual Stableford
URL:https://rshecc.es/evento/social-damas-4/
CATEGORIES:Golf
ATTACH;FMTTYPE=image/jpeg:https://rshecc.es/wp-content/uploads/2021/02/events-golf-woman.jpg
END:VEVENT
BEGIN:VEVENT
DTSTART;VALUE=DATE:20220223
DTEND;VALUE=DATE:20220224
DTSTAMP:20260421T204902
CREATED:20211220T112058Z
LAST-MODIFIED:20220221T063247Z
UID:7382-1645574400-1645660799@rshecc.es
SUMMARY:GOLF: Séniores Caballeros
DESCRIPTION:Individual Stableford
URL:https://rshecc.es/evento/seniores-caballeros/
CATEGORIES:Golf
ATTACH;FMTTYPE=image/jpeg:https://rshecc.es/wp-content/uploads/2021/04/events-golf.jpg
END:VEVENT
BEGIN:VEVENT
DTSTART;VALUE=DATE:20220226
DTEND;VALUE=DATE:20220227
DTSTAMP:20260421T204902
CREATED:20211220T112214Z
LAST-MODIFIED:20220221T063315Z
UID:7384-1645833600-1645919999@rshecc.es
SUMMARY:GOLF: Hándicaps Altos
DESCRIPTION:Individual Stableford
URL:https://rshecc.es/evento/handicaps-altos-5/
CATEGORIES:Golf
ATTACH;FMTTYPE=image/jpeg:https://rshecc.es/wp-content/uploads/2020/11/event-golf.jpg
END:VEVENT
BEGIN:VEVENT
DTSTART;VALUE=DATE:20220227
DTEND;VALUE=DATE:20220228
DTSTAMP:20260421T204902
CREATED:20211220T112305Z
LAST-MODIFIED:20220221T063323Z
UID:7386-1645920000-1646006399@rshecc.es
SUMMARY:GOLF: Juvenil
DESCRIPTION:Individual Stableford
URL:https://rshecc.es/evento/juvenil-7/
CATEGORIES:Golf
ATTACH;FMTTYPE=image/jpeg:https://rshecc.es/wp-content/uploads/2021/05/events-golf-juvenil.jpg
END:VEVENT
END:VCALENDAR