BEGIN:VCALENDAR
VERSION:2.0
PRODID:-//RSHECC - ECPv6.15.20//NONSGML v1.0//EN
CALSCALE:GREGORIAN
METHOD:PUBLISH
X-ORIGINAL-URL:https://rshecc.es
X-WR-CALDESC:Eventos para RSHECC
REFRESH-INTERVAL;VALUE=DURATION:PT1H
X-Robots-Tag:noindex
X-PUBLISHED-TTL:PT1H
BEGIN:VTIMEZONE
TZID:Europe/Madrid
BEGIN:DAYLIGHT
TZOFFSETFROM:+0100
TZOFFSETTO:+0200
TZNAME:CEST
DTSTART:20210328T010000
END:DAYLIGHT
BEGIN:STANDARD
TZOFFSETFROM:+0200
TZOFFSETTO:+0100
TZNAME:CET
DTSTART:20211031T010000
END:STANDARD
BEGIN:DAYLIGHT
TZOFFSETFROM:+0100
TZOFFSETTO:+0200
TZNAME:CEST
DTSTART:20220327T010000
END:DAYLIGHT
BEGIN:STANDARD
TZOFFSETFROM:+0200
TZOFFSETTO:+0100
TZNAME:CET
DTSTART:20221030T010000
END:STANDARD
BEGIN:DAYLIGHT
TZOFFSETFROM:+0100
TZOFFSETTO:+0200
TZNAME:CEST
DTSTART:20230326T010000
END:DAYLIGHT
BEGIN:STANDARD
TZOFFSETFROM:+0200
TZOFFSETTO:+0100
TZNAME:CET
DTSTART:20231029T010000
END:STANDARD
END:VTIMEZONE
BEGIN:VEVENT
DTSTART;VALUE=DATE:20221105
DTEND;VALUE=DATE:20221107
DTSTAMP:20260421T101418
CREATED:20220912T062312Z
LAST-MODIFIED:20220929T064709Z
UID:9317-1667606400-1667779199@rshecc.es
SUMMARY:GOLF: Campeonato Individual Damas RSHECC
DESCRIPTION:Consulte la normativa de este torneo en la sección Agenda de competición.
URL:https://rshecc.es/evento/golf-campeonato-individual-damas-rshecc/
CATEGORIES:Golf
ATTACH;FMTTYPE=image/png:https://rshecc.es/wp-content/uploads/2022/07/evento-campeonato-rshecc-damas.png
END:VEVENT
END:VCALENDAR