BEGIN:VCALENDAR
VERSION:2.0
PRODID:-//RSHECC - ECPv6.15.20//NONSGML v1.0//EN
CALSCALE:GREGORIAN
METHOD:PUBLISH
X-WR-CALNAME:RSHECC
X-ORIGINAL-URL:https://rshecc.es
X-WR-CALDESC:Eventos para RSHECC
REFRESH-INTERVAL;VALUE=DURATION:PT1H
X-Robots-Tag:noindex
X-PUBLISHED-TTL:PT1H
BEGIN:VTIMEZONE
TZID:Europe/Madrid
BEGIN:DAYLIGHT
TZOFFSETFROM:+0100
TZOFFSETTO:+0200
TZNAME:CEST
DTSTART:20190331T010000
END:DAYLIGHT
BEGIN:STANDARD
TZOFFSETFROM:+0200
TZOFFSETTO:+0100
TZNAME:CET
DTSTART:20191027T010000
END:STANDARD
BEGIN:DAYLIGHT
TZOFFSETFROM:+0100
TZOFFSETTO:+0200
TZNAME:CEST
DTSTART:20200329T010000
END:DAYLIGHT
BEGIN:STANDARD
TZOFFSETFROM:+0200
TZOFFSETTO:+0100
TZNAME:CET
DTSTART:20201025T010000
END:STANDARD
BEGIN:DAYLIGHT
TZOFFSETFROM:+0100
TZOFFSETTO:+0200
TZNAME:CEST
DTSTART:20210328T010000
END:DAYLIGHT
BEGIN:STANDARD
TZOFFSETFROM:+0200
TZOFFSETTO:+0100
TZNAME:CET
DTSTART:20211031T010000
END:STANDARD
END:VTIMEZONE
BEGIN:VEVENT
DTSTART;VALUE=DATE:20201031
DTEND;VALUE=DATE:20201103
DTSTAMP:20260422T152522
CREATED:20200804T114343Z
LAST-MODIFIED:20200806T061709Z
UID:2710-1604102400-1604361599@rshecc.es
SUMMARY:Campeonato Individual Caballeros RSHECC 2020
DESCRIPTION:Valedero para el World Amateur Golf Ranking. \nInscripciones hasta el martes 27 de octubre de 2020 a las 18:00h
URL:https://rshecc.es/evento/campeonato-individual-caballeros-rshecc-2020/
CATEGORIES:Golf
ATTACH;FMTTYPE=image/jpeg:https://rshecc.es/wp-content/uploads/2020/08/events-golf-mix.jpg
END:VEVENT
END:VCALENDAR