BEGIN:VCALENDAR
VERSION:2.0
PRODID:-//RSHECC - ECPv6.15.20//NONSGML v1.0//EN
CALSCALE:GREGORIAN
METHOD:PUBLISH
X-ORIGINAL-URL:https://rshecc.es
X-WR-CALDESC:Eventos para RSHECC
REFRESH-INTERVAL;VALUE=DURATION:PT1H
X-Robots-Tag:noindex
X-PUBLISHED-TTL:PT1H
BEGIN:VTIMEZONE
TZID:Europe/Madrid
BEGIN:DAYLIGHT
TZOFFSETFROM:+0100
TZOFFSETTO:+0200
TZNAME:CEST
DTSTART:20210328T010000
END:DAYLIGHT
BEGIN:STANDARD
TZOFFSETFROM:+0200
TZOFFSETTO:+0100
TZNAME:CET
DTSTART:20211031T010000
END:STANDARD
BEGIN:DAYLIGHT
TZOFFSETFROM:+0100
TZOFFSETTO:+0200
TZNAME:CEST
DTSTART:20220327T010000
END:DAYLIGHT
BEGIN:STANDARD
TZOFFSETFROM:+0200
TZOFFSETTO:+0100
TZNAME:CET
DTSTART:20221030T010000
END:STANDARD
BEGIN:DAYLIGHT
TZOFFSETFROM:+0100
TZOFFSETTO:+0200
TZNAME:CEST
DTSTART:20230326T010000
END:DAYLIGHT
BEGIN:STANDARD
TZOFFSETFROM:+0200
TZOFFSETTO:+0100
TZNAME:CET
DTSTART:20231029T010000
END:STANDARD
END:VTIMEZONE
BEGIN:VEVENT
DTSTART;VALUE=DATE:20220515
DTEND;VALUE=DATE:20220516
DTSTAMP:20260421T184308
CREATED:20220308T111621Z
LAST-MODIFIED:20220413T074056Z
UID:7941-1652572800-1652659199@rshecc.es
SUMMARY:GOLF: Liga de Damas
DESCRIPTION:Individual Stableford
URL:https://rshecc.es/evento/liga-de-damas-5/
CATEGORIES:Golf
ATTACH;FMTTYPE=image/jpeg:https://rshecc.es/wp-content/uploads/2021/02/events-golf-woman.jpg
END:VEVENT
BEGIN:VEVENT
DTSTART;VALUE=DATE:20220515
DTEND;VALUE=DATE:20220516
DTSTAMP:20260421T184308
CREATED:20220308T111737Z
LAST-MODIFIED:20220413T074027Z
UID:7944-1652572800-1652659199@rshecc.es
SUMMARY:GOLF: Puntuable Juvenil Pares 3
DESCRIPTION:Individual Stableford
URL:https://rshecc.es/evento/golf-puntuable-juvenil-pares-3/
CATEGORIES:Golf
ATTACH;FMTTYPE=image/jpeg:https://rshecc.es/wp-content/uploads/2021/04/events-golf-juvenil.jpg
END:VEVENT
END:VCALENDAR