BEGIN:VCALENDAR
VERSION:2.0
PRODID:-//RSHECC - ECPv6.15.20//NONSGML v1.0//EN
CALSCALE:GREGORIAN
METHOD:PUBLISH
X-WR-CALNAME:RSHECC
X-ORIGINAL-URL:https://rshecc.es
X-WR-CALDESC:Eventos para RSHECC
REFRESH-INTERVAL;VALUE=DURATION:PT1H
X-Robots-Tag:noindex
X-PUBLISHED-TTL:PT1H
BEGIN:VTIMEZONE
TZID:Europe/Madrid
BEGIN:DAYLIGHT
TZOFFSETFROM:+0100
TZOFFSETTO:+0200
TZNAME:CEST
DTSTART:20220327T010000
END:DAYLIGHT
BEGIN:STANDARD
TZOFFSETFROM:+0200
TZOFFSETTO:+0100
TZNAME:CET
DTSTART:20221030T010000
END:STANDARD
BEGIN:DAYLIGHT
TZOFFSETFROM:+0100
TZOFFSETTO:+0200
TZNAME:CEST
DTSTART:20230326T010000
END:DAYLIGHT
BEGIN:STANDARD
TZOFFSETFROM:+0200
TZOFFSETTO:+0100
TZNAME:CET
DTSTART:20231029T010000
END:STANDARD
BEGIN:DAYLIGHT
TZOFFSETFROM:+0100
TZOFFSETTO:+0200
TZNAME:CEST
DTSTART:20240331T010000
END:DAYLIGHT
BEGIN:STANDARD
TZOFFSETFROM:+0200
TZOFFSETTO:+0100
TZNAME:CET
DTSTART:20241027T010000
END:STANDARD
END:VTIMEZONE
BEGIN:VEVENT
DTSTART;VALUE=DATE:20230325
DTEND;VALUE=DATE:20230327
DTSTAMP:20260426T053256
CREATED:20230214T085223Z
LAST-MODIFIED:20230214T085223Z
UID:10472-1679702400-1679875199@rshecc.es
SUMMARY:Hípica: Concurso de Saltos Nacional (2 estrellas)
DESCRIPTION:Pruebas\nSábado 25 de marzo: 1\,10 m / 1\,20 m / 1\,30 m / 1\,00 m / 0\,80 m / \nDomingo 26 de marzo: 1\,05 m / 0\,85 m / 1\,15 m / 1\,25 m / 1\,35 m /
URL:https://rshecc.es/evento/hipica-concurso-de-saltos-nacional-2-estrellas/
CATEGORIES:Hípica
ATTACH;FMTTYPE=image/jpeg:https://rshecc.es/wp-content/uploads/2023/01/evento-cst.jpg
END:VEVENT
END:VCALENDAR