BEGIN:VCALENDAR
VERSION:2.0
PRODID:-//RSHECC - ECPv6.15.20//NONSGML v1.0//EN
CALSCALE:GREGORIAN
METHOD:PUBLISH
X-WR-CALNAME:RSHECC
X-ORIGINAL-URL:https://rshecc.es
X-WR-CALDESC:Eventos para RSHECC
REFRESH-INTERVAL;VALUE=DURATION:PT1H
X-Robots-Tag:noindex
X-PUBLISHED-TTL:PT1H
BEGIN:VTIMEZONE
TZID:Europe/Madrid
BEGIN:DAYLIGHT
TZOFFSETFROM:+0100
TZOFFSETTO:+0200
TZNAME:CEST
DTSTART:20230326T010000
END:DAYLIGHT
BEGIN:STANDARD
TZOFFSETFROM:+0200
TZOFFSETTO:+0100
TZNAME:CET
DTSTART:20231029T010000
END:STANDARD
BEGIN:DAYLIGHT
TZOFFSETFROM:+0100
TZOFFSETTO:+0200
TZNAME:CEST
DTSTART:20240331T010000
END:DAYLIGHT
BEGIN:STANDARD
TZOFFSETFROM:+0200
TZOFFSETTO:+0100
TZNAME:CET
DTSTART:20241027T010000
END:STANDARD
BEGIN:DAYLIGHT
TZOFFSETFROM:+0100
TZOFFSETTO:+0200
TZNAME:CEST
DTSTART:20250330T010000
END:DAYLIGHT
BEGIN:STANDARD
TZOFFSETFROM:+0200
TZOFFSETTO:+0100
TZNAME:CET
DTSTART:20251026T010000
END:STANDARD
END:VTIMEZONE
BEGIN:VEVENT
DTSTART;VALUE=DATE:20241215
DTEND;VALUE=DATE:20241216
DTSTAMP:20260422T093840
CREATED:20241129T100145Z
LAST-MODIFIED:20241129T100145Z
UID:14690-1734220800-1734307199@rshecc.es
SUMMARY:Fiesta de Navidad Infantil
DESCRIPTION:Con horario de actividades extendido desde el mediodía: Gymkhana\, a las 12:30h; Cuentacuentos\, a las 16:00 h\, y visita del Paje Real para recoger las cartas a los Reyes Magos\, a las 17:00 h.
URL:https://rshecc.es/evento/fiesta-de-navidad-infantil/
CATEGORIES:Infantil y Familiar
ATTACH;FMTTYPE=image/jpeg:https://rshecc.es/wp-content/uploads/2024/11/evento-navidad.jpg
END:VEVENT
BEGIN:VEVENT
DTSTART;VALUE=DATE:20241221
DTEND;VALUE=DATE:20241222
DTSTAMP:20260422T093840
CREATED:20241129T100419Z
LAST-MODIFIED:20241129T100419Z
UID:14694-1734739200-1734825599@rshecc.es
SUMMARY:Navidad 2024: Merienda familiar\, entrega de trofeos y sorteo de regalos
DESCRIPTION:El Club celebra la Navidad con una merienda para todas las familias\, que se desarrollará el sábado 21 de diciembre\, a partir de las 18:30 horas\, en el pabellón de eventos\, con entregas de trofeos y sorteo de regalos.
URL:https://rshecc.es/evento/navidad-2024-merienda-familiar-entrega-de-trofeos-y-sorteo-de-regalos/
CATEGORIES:Infantil y Familiar
ATTACH;FMTTYPE=image/jpeg:https://rshecc.es/wp-content/uploads/2024/11/evento-navidad-2.jpg
END:VEVENT
END:VCALENDAR