BEGIN:VCALENDAR
VERSION:2.0
PRODID:-//RSHECC - ECPv6.15.20//NONSGML v1.0//EN
CALSCALE:GREGORIAN
METHOD:PUBLISH
X-ORIGINAL-URL:https://rshecc.es
X-WR-CALDESC:Eventos para RSHECC
REFRESH-INTERVAL;VALUE=DURATION:PT1H
X-Robots-Tag:noindex
X-PUBLISHED-TTL:PT1H
BEGIN:VTIMEZONE
TZID:Europe/Madrid
BEGIN:DAYLIGHT
TZOFFSETFROM:+0100
TZOFFSETTO:+0200
TZNAME:CEST
DTSTART:20200329T010000
END:DAYLIGHT
BEGIN:STANDARD
TZOFFSETFROM:+0200
TZOFFSETTO:+0100
TZNAME:CET
DTSTART:20201025T010000
END:STANDARD
BEGIN:DAYLIGHT
TZOFFSETFROM:+0100
TZOFFSETTO:+0200
TZNAME:CEST
DTSTART:20210328T010000
END:DAYLIGHT
BEGIN:STANDARD
TZOFFSETFROM:+0200
TZOFFSETTO:+0100
TZNAME:CET
DTSTART:20211031T010000
END:STANDARD
BEGIN:DAYLIGHT
TZOFFSETFROM:+0100
TZOFFSETTO:+0200
TZNAME:CEST
DTSTART:20220327T010000
END:DAYLIGHT
BEGIN:STANDARD
TZOFFSETFROM:+0200
TZOFFSETTO:+0100
TZNAME:CET
DTSTART:20221030T010000
END:STANDARD
BEGIN:DAYLIGHT
TZOFFSETFROM:+0100
TZOFFSETTO:+0200
TZNAME:CEST
DTSTART:20230326T010000
END:DAYLIGHT
BEGIN:STANDARD
TZOFFSETFROM:+0200
TZOFFSETTO:+0100
TZNAME:CET
DTSTART:20231029T010000
END:STANDARD
END:VTIMEZONE
BEGIN:VEVENT
DTSTART;VALUE=DATE:20220129
DTEND;VALUE=DATE:20220130
DTSTAMP:20260425T173115
CREATED:20211220T064613Z
LAST-MODIFIED:20211220T064613Z
UID:7350-1643414400-1643500799@rshecc.es
SUMMARY:Liga de Parejas Invierno (primera prueba)
DESCRIPTION:Parejas Stableford Fourball
URL:https://rshecc.es/evento/liga-de-parejas-invierno-primera-prueba/
CATEGORIES:Golf
ATTACH;FMTTYPE=image/jpeg:https://rshecc.es/wp-content/uploads/2021/04/events-golf-mix.jpg
END:VEVENT
BEGIN:VEVENT
DTSTART;VALUE=DATE:20220123
DTEND;VALUE=DATE:20220124
DTSTAMP:20260425T173115
CREATED:20220117T061311Z
LAST-MODIFIED:20220117T061311Z
UID:7478-1642896000-1642982399@rshecc.es
SUMMARY:Juvenil
DESCRIPTION:Individual Stableford
URL:https://rshecc.es/evento/juvenil-9/
CATEGORIES:Golf
ATTACH;FMTTYPE=image/jpeg:https://rshecc.es/wp-content/uploads/2021/04/events-golf-juvenil.jpg
END:VEVENT
BEGIN:VEVENT
DTSTART;VALUE=DATE:20220119
DTEND;VALUE=DATE:20220120
DTSTAMP:20260425T173115
CREATED:20211220T064437Z
LAST-MODIFIED:20211220T064437Z
UID:7348-1642550400-1642636799@rshecc.es
SUMMARY:Puntuable Damas y Caballeros
DESCRIPTION:Individual Stableford
URL:https://rshecc.es/evento/puntuable-damas-y-caballeros-7/
CATEGORIES:Golf
ATTACH;FMTTYPE=image/jpeg:https://rshecc.es/wp-content/uploads/2020/11/event-golf.jpg
END:VEVENT
BEGIN:VEVENT
DTSTART;VALUE=DATE:20220109
DTEND;VALUE=DATE:20220110
DTSTAMP:20260425T173115
CREATED:20211220T063512Z
LAST-MODIFIED:20211220T063512Z
UID:7346-1641686400-1641772799@rshecc.es
SUMMARY:Reyes 2ª Categoría Caballeros (≥11\,5)
DESCRIPTION:Individual Stableford
URL:https://rshecc.es/evento/reyes-2a-categoria-caballeros-%e2%89%a5115/
CATEGORIES:Golf
ATTACH;FMTTYPE=image/jpeg:https://rshecc.es/wp-content/uploads/2021/05/event-golf-summer.jpg
END:VEVENT
BEGIN:VEVENT
DTSTART;VALUE=DATE:20220108
DTEND;VALUE=DATE:20220109
DTSTAMP:20260425T173115
CREATED:20211220T061209Z
LAST-MODIFIED:20211220T061209Z
UID:7344-1641600000-1641686399@rshecc.es
SUMMARY:Reyes Damas y 1ª Categoría Caballeros (≤11\,4)
DESCRIPTION:Individual Stableford
URL:https://rshecc.es/evento/reyes-damas-y-1a-categoria-caballeros-%e2%89%a4114/
CATEGORIES:Golf
ATTACH;FMTTYPE=image/jpeg:https://rshecc.es/wp-content/uploads/2021/04/events-golf-mix.jpg
END:VEVENT
BEGIN:VEVENT
DTSTART;VALUE=DATE:20211218
DTEND;VALUE=DATE:20211219
DTSTAMP:20260425T173115
CREATED:20211122T095554Z
LAST-MODIFIED:20211122T095554Z
UID:7138-1639785600-1639871999@rshecc.es
SUMMARY:Social de Navidad Primera Categoría Caballeros (≤11\,4)
DESCRIPTION:
URL:https://rshecc.es/evento/social-de-navidad-primera-categoria-caballeros-%e2%89%a4114/
CATEGORIES:Golf
ATTACH;FMTTYPE=image/jpeg:https://rshecc.es/wp-content/uploads/2020/11/event-golf.jpg
END:VEVENT
BEGIN:VEVENT
DTSTART;VALUE=DATE:20211212
DTEND;VALUE=DATE:20211213
DTSTAMP:20260425T173115
CREATED:20211122T095300Z
LAST-MODIFIED:20211122T095300Z
UID:7136-1639267200-1639353599@rshecc.es
SUMMARY:Social de Navidad Juvenil
DESCRIPTION:
URL:https://rshecc.es/evento/social-de-navidad-juvenil/
CATEGORIES:Golf
ATTACH;FMTTYPE=image/jpeg:https://rshecc.es/wp-content/uploads/2021/04/events-golf-juvenil2.jpg
END:VEVENT
BEGIN:VEVENT
DTSTART;VALUE=DATE:20211211
DTEND;VALUE=DATE:20211212
DTSTAMP:20260425T173115
CREATED:20211122T095145Z
LAST-MODIFIED:20211122T095145Z
UID:7134-1639180800-1639267199@rshecc.es
SUMMARY:Social de Navidad Damas
DESCRIPTION:
URL:https://rshecc.es/evento/social-de-navidad-damas/
CATEGORIES:Golf
ATTACH;FMTTYPE=image/jpeg:https://rshecc.es/wp-content/uploads/2021/04/events-golf-woman.jpg
END:VEVENT
BEGIN:VEVENT
DTSTART;VALUE=DATE:20211210
DTEND;VALUE=DATE:20211213
DTSTAMP:20260425T173115
CREATED:20210621T072933Z
LAST-MODIFIED:20211115T115545Z
UID:5986-1639094400-1639353599@rshecc.es
SUMMARY:Croquet: II Trofeo Inmaculada
DESCRIPTION:Individual Abierto
URL:https://rshecc.es/evento/croquet-ii-trofeo-inmaculada/
CATEGORIES:Croquet
ATTACH;FMTTYPE=image/jpeg:https://rshecc.es/wp-content/uploads/2021/06/Eventos-Croquet.jpg
END:VEVENT
BEGIN:VEVENT
DTSTART;VALUE=DATE:20211128
DTEND;VALUE=DATE:20211129
DTSTAMP:20260425T173115
CREATED:20211026T050956Z
LAST-MODIFIED:20211026T050956Z
UID:6822-1638057600-1638143999@rshecc.es
SUMMARY:Juvenil
DESCRIPTION:
URL:https://rshecc.es/evento/juvenil-3/
CATEGORIES:Golf
ATTACH;FMTTYPE=image/jpeg:https://rshecc.es/wp-content/uploads/2021/04/events-golf-juvenil2.jpg
END:VEVENT
BEGIN:VEVENT
DTSTART;VALUE=DATE:20211127
DTEND;VALUE=DATE:20211128
DTSTAMP:20260425T173115
CREATED:20211026T050923Z
LAST-MODIFIED:20211026T050923Z
UID:6820-1637971200-1638057599@rshecc.es
SUMMARY:Puntuable Juvenil
DESCRIPTION:
URL:https://rshecc.es/evento/puntuable-juvenil-4/
CATEGORIES:Golf
ATTACH;FMTTYPE=image/jpeg:https://rshecc.es/wp-content/uploads/2021/04/events-golf-juvenil.jpg
END:VEVENT
BEGIN:VEVENT
DTSTART;VALUE=DATE:20211127
DTEND;VALUE=DATE:20211128
DTSTAMP:20260425T173115
CREATED:20211026T050815Z
LAST-MODIFIED:20211026T050815Z
UID:6817-1637971200-1638057599@rshecc.es
SUMMARY:Liga de Damas Pares Tres
DESCRIPTION:
URL:https://rshecc.es/evento/liga-de-damas-pares-tres-2/
CATEGORIES:Golf
ATTACH;FMTTYPE=image/jpeg:https://rshecc.es/wp-content/uploads/2021/04/events-golf-woman.jpg
END:VEVENT
BEGIN:VEVENT
DTSTART;VALUE=DATE:20211127
DTEND;VALUE=DATE:20211128
DTSTAMP:20260425T173115
CREATED:20211026T050654Z
LAST-MODIFIED:20211026T050720Z
UID:6814-1637971200-1638057599@rshecc.es
SUMMARY:Navidad Segunda Categoría Caballeros (≥11\,5)
DESCRIPTION:
URL:https://rshecc.es/evento/navidad-seguna-categoria-caballeros-%e2%89%a5115/
CATEGORIES:Golf
ATTACH;FMTTYPE=image/jpeg:https://rshecc.es/wp-content/uploads/2021/04/events-golf-mix.jpg
END:VEVENT
BEGIN:VEVENT
DTSTART;VALUE=DATE:20211126
DTEND;VALUE=DATE:20211128
DTSTAMP:20260425T173115
CREATED:20210621T072817Z
LAST-MODIFIED:20211115T120814Z
UID:5984-1637884800-1638057599@rshecc.es
SUMMARY:Croquet: Torneo RSHECC Absoluto Social Dobles
DESCRIPTION:
URL:https://rshecc.es/evento/croquet-torneo-rshecc-absoluto-social-dobles/
CATEGORIES:Croquet
ATTACH;FMTTYPE=image/jpeg:https://rshecc.es/wp-content/uploads/2021/06/Eventos-Croquet.jpg
END:VEVENT
BEGIN:VEVENT
DTSTART;VALUE=DATE:20211121
DTEND;VALUE=DATE:20211122
DTSTAMP:20260425T173115
CREATED:20211026T050504Z
LAST-MODIFIED:20211026T050504Z
UID:6812-1637452800-1637539199@rshecc.es
SUMMARY:Puntuable Juvenil Pares Tres
DESCRIPTION:
URL:https://rshecc.es/evento/puntuable-juvenil-pares-tres/
CATEGORIES:Golf
ATTACH;FMTTYPE=image/jpeg:https://rshecc.es/wp-content/uploads/2021/04/events-golf-juvenil.jpg
END:VEVENT
BEGIN:VEVENT
DTSTART;VALUE=DATE:20211121
DTEND;VALUE=DATE:20211122
DTSTAMP:20260425T173115
CREATED:20211026T050408Z
LAST-MODIFIED:20211026T050408Z
UID:6810-1637452800-1637539199@rshecc.es
SUMMARY:Liga de Damas Pares Tres
DESCRIPTION:
URL:https://rshecc.es/evento/liga-de-damas-pares-tres/
CATEGORIES:Golf
ATTACH;FMTTYPE=image/jpeg:https://rshecc.es/wp-content/uploads/2021/04/events-golf-woman.jpg
END:VEVENT
BEGIN:VEVENT
DTSTART;VALUE=DATE:20211120
DTEND;VALUE=DATE:20211121
DTSTAMP:20260425T173115
CREATED:20211026T050318Z
LAST-MODIFIED:20211026T050318Z
UID:6808-1637366400-1637452799@rshecc.es
SUMMARY:Hándicaps Altos
DESCRIPTION:
URL:https://rshecc.es/evento/handicaps-altos-3/
CATEGORIES:Golf
ATTACH;FMTTYPE=image/jpeg:https://rshecc.es/wp-content/uploads/2021/04/events-golf.jpg
END:VEVENT
BEGIN:VEVENT
DTSTART;VALUE=DATE:20211114
DTEND;VALUE=DATE:20211115
DTSTAMP:20260425T173115
CREATED:20211026T050223Z
LAST-MODIFIED:20211026T050223Z
UID:6806-1636848000-1636934399@rshecc.es
SUMMARY:Puntuable Juvenil 9 Hoyos Largos
DESCRIPTION:
URL:https://rshecc.es/evento/puntuable-juvenil-9-hoyos-largos-3/
CATEGORIES:Golf
ATTACH;FMTTYPE=image/jpeg:https://rshecc.es/wp-content/uploads/2021/04/events-golf-juvenil.jpg
END:VEVENT
BEGIN:VEVENT
DTSTART;VALUE=DATE:20211114
DTEND;VALUE=DATE:20211115
DTSTAMP:20260425T173115
CREATED:20211026T050142Z
LAST-MODIFIED:20211026T050142Z
UID:6804-1636848000-1636934399@rshecc.es
SUMMARY:Hándicaps Altos
DESCRIPTION:
URL:https://rshecc.es/evento/handicaps-altos-2/
CATEGORIES:Golf
ATTACH;FMTTYPE=image/jpeg:https://rshecc.es/wp-content/uploads/2021/04/events-golf.jpg
END:VEVENT
BEGIN:VEVENT
DTSTART;VALUE=DATE:20211113
DTEND;VALUE=DATE:20211114
DTSTAMP:20260425T173115
CREATED:20211026T050041Z
LAST-MODIFIED:20211026T050041Z
UID:6802-1636761600-1636847999@rshecc.es
SUMMARY:Liga de Damas 9 Hoyos Largos
DESCRIPTION:
URL:https://rshecc.es/evento/liga-de-damas-9-hoyos-largos-2/
CATEGORIES:Golf
ATTACH;FMTTYPE=image/jpeg:https://rshecc.es/wp-content/uploads/2021/04/events-golf-woman.jpg
END:VEVENT
BEGIN:VEVENT
DTSTART;VALUE=DATE:20211113
DTEND;VALUE=DATE:20211114
DTSTAMP:20260425T173115
CREATED:20211026T045950Z
LAST-MODIFIED:20211026T045950Z
UID:6800-1636761600-1636847999@rshecc.es
SUMMARY:Juvenil
DESCRIPTION:
URL:https://rshecc.es/evento/juvenil-2/
CATEGORIES:Golf
ATTACH;FMTTYPE=image/jpeg:https://rshecc.es/wp-content/uploads/2021/04/events-golf-juvenil.jpg
END:VEVENT
BEGIN:VEVENT
DTSTART;VALUE=DATE:20211113
DTEND;VALUE=DATE:20211115
DTSTAMP:20260425T173115
CREATED:20210429T082934Z
LAST-MODIFIED:20211108T164100Z
UID:5422-1636761600-1636934399@rshecc.es
SUMMARY:Concurso de Saltos Nacional**
DESCRIPTION:
URL:https://rshecc.es/evento/concurso-de-saltos-nacional-6/
CATEGORIES:Hípica
ATTACH;FMTTYPE=image/jpeg:https://rshecc.es/wp-content/uploads/2021/04/events-hipica.jpg
END:VEVENT
BEGIN:VEVENT
DTSTART;VALUE=DATE:20211112
DTEND;VALUE=DATE:20211115
DTSTAMP:20260425T173115
CREATED:20210621T072727Z
LAST-MODIFIED:20211025T161623Z
UID:5982-1636675200-1636934399@rshecc.es
SUMMARY:Croquet: Torneo RSHECC Absoluto Individual
DESCRIPTION:
URL:https://rshecc.es/evento/croquet-torneo-rshecc-absoluto-social-individual/
CATEGORIES:Croquet
ATTACH;FMTTYPE=image/jpeg:https://rshecc.es/wp-content/uploads/2021/06/Eventos-Croquet.jpg
END:VEVENT
BEGIN:VEVENT
DTSTART;VALUE=DATE:20211111
DTEND;VALUE=DATE:20211112
DTSTAMP:20260425T173115
CREATED:20211026T045901Z
LAST-MODIFIED:20211108T062607Z
UID:6798-1636588800-1636675199@rshecc.es
SUMMARY:Social Séniores Caballeros
DESCRIPTION:
URL:https://rshecc.es/evento/social-seniores-caballeros-4/
CATEGORIES:Golf
ATTACH;FMTTYPE=image/jpeg:https://rshecc.es/wp-content/uploads/2021/04/events-golf.jpg
END:VEVENT
BEGIN:VEVENT
DTSTART;VALUE=DATE:20211111
DTEND;VALUE=DATE:20211112
DTSTAMP:20260425T173115
CREATED:20211026T045818Z
LAST-MODIFIED:20211108T062537Z
UID:6796-1636588800-1636675199@rshecc.es
SUMMARY:Social Damas
DESCRIPTION:
URL:https://rshecc.es/evento/social-damas-3/
CATEGORIES:Golf
ATTACH;FMTTYPE=image/jpeg:https://rshecc.es/wp-content/uploads/2021/04/events-golf-woman.jpg
END:VEVENT
BEGIN:VEVENT
DTSTART;VALUE=DATE:20211107
DTEND;VALUE=DATE:20211108
DTSTAMP:20260425T173115
CREATED:20211026T045719Z
LAST-MODIFIED:20211026T045719Z
UID:6793-1636243200-1636329599@rshecc.es
SUMMARY:Puntuable Juvenil
DESCRIPTION:
URL:https://rshecc.es/evento/puntuable-juvenil-3/
CATEGORIES:Golf
ATTACH;FMTTYPE=image/jpeg:https://rshecc.es/wp-content/uploads/2021/04/events-golf-juvenil2.jpg
END:VEVENT
BEGIN:VEVENT
DTSTART;VALUE=DATE:20211107
DTEND;VALUE=DATE:20211108
DTSTAMP:20260425T173115
CREATED:20211026T045637Z
LAST-MODIFIED:20211026T045637Z
UID:6790-1636243200-1636329599@rshecc.es
SUMMARY:Liga de Damas 9 Hoyos Largos
DESCRIPTION:
URL:https://rshecc.es/evento/liga-de-damas-9-hoyos-largos/
CATEGORIES:Golf
ATTACH;FMTTYPE=image/jpeg:https://rshecc.es/wp-content/uploads/2021/04/events-golf-woman.jpg
END:VEVENT
BEGIN:VEVENT
DTSTART;VALUE=DATE:20211106
DTEND;VALUE=DATE:20211107
DTSTAMP:20260425T173115
CREATED:20211026T045547Z
LAST-MODIFIED:20211026T045547Z
UID:6788-1636156800-1636243199@rshecc.es
SUMMARY:Hándicaps Altos
DESCRIPTION:
URL:https://rshecc.es/evento/handicaps-altos/
CATEGORIES:Golf
ATTACH;FMTTYPE=image/jpeg:https://rshecc.es/wp-content/uploads/2021/04/events-golf-mix.jpg
END:VEVENT
BEGIN:VEVENT
DTSTART;VALUE=DATE:20211104
DTEND;VALUE=DATE:20211105
DTSTAMP:20260425T173115
CREATED:20211026T045451Z
LAST-MODIFIED:20211026T045451Z
UID:6785-1635984000-1636070399@rshecc.es
SUMMARY:Triangular RCdPH-RCLM-RSHECC
DESCRIPTION:
URL:https://rshecc.es/evento/triangular-rcdph-rclm-rshecc/
CATEGORIES:Golf
ATTACH;FMTTYPE=image/jpeg:https://rshecc.es/wp-content/uploads/2021/10/evento-triangular.jpg
END:VEVENT
BEGIN:VEVENT
DTSTART;VALUE=DATE:20211103
DTEND;VALUE=DATE:20211104
DTSTAMP:20260425T173115
CREATED:20211026T045117Z
LAST-MODIFIED:20211026T045117Z
UID:6783-1635897600-1635983999@rshecc.es
SUMMARY:Puntuable Damas y Caballeros
DESCRIPTION:
URL:https://rshecc.es/evento/puntuable-damas-y-caballeros-6/
CATEGORIES:Golf
ATTACH;FMTTYPE=image/jpeg:https://rshecc.es/wp-content/uploads/2021/05/event-golf-summer.jpg
END:VEVENT
END:VCALENDAR