BEGIN:VCALENDAR
VERSION:2.0
PRODID:-//RSHECC - ECPv6.15.20//NONSGML v1.0//EN
CALSCALE:GREGORIAN
METHOD:PUBLISH
X-ORIGINAL-URL:https://rshecc.es
X-WR-CALDESC:Eventos para RSHECC
REFRESH-INTERVAL;VALUE=DURATION:PT1H
X-Robots-Tag:noindex
X-PUBLISHED-TTL:PT1H
BEGIN:VTIMEZONE
TZID:Europe/Madrid
BEGIN:DAYLIGHT
TZOFFSETFROM:+0100
TZOFFSETTO:+0200
TZNAME:CEST
DTSTART:20200329T010000
END:DAYLIGHT
BEGIN:STANDARD
TZOFFSETFROM:+0200
TZOFFSETTO:+0100
TZNAME:CET
DTSTART:20201025T010000
END:STANDARD
BEGIN:DAYLIGHT
TZOFFSETFROM:+0100
TZOFFSETTO:+0200
TZNAME:CEST
DTSTART:20210328T010000
END:DAYLIGHT
BEGIN:STANDARD
TZOFFSETFROM:+0200
TZOFFSETTO:+0100
TZNAME:CET
DTSTART:20211031T010000
END:STANDARD
BEGIN:DAYLIGHT
TZOFFSETFROM:+0100
TZOFFSETTO:+0200
TZNAME:CEST
DTSTART:20220327T010000
END:DAYLIGHT
BEGIN:STANDARD
TZOFFSETFROM:+0200
TZOFFSETTO:+0100
TZNAME:CET
DTSTART:20221030T010000
END:STANDARD
END:VTIMEZONE
BEGIN:VEVENT
DTSTART;VALUE=DATE:20211023
DTEND;VALUE=DATE:20211025
DTSTAMP:20260425T224227
CREATED:20210429T082821Z
LAST-MODIFIED:20211014T105107Z
UID:5420-1634947200-1635119999@rshecc.es
SUMMARY:Concurso de Saltos Nacional**
DESCRIPTION:
URL:https://rshecc.es/evento/concurso-de-saltos-nacional-5/
CATEGORIES:Hípica
ATTACH;FMTTYPE=image/jpeg:https://rshecc.es/wp-content/uploads/2021/04/events-hipicac.jpg
END:VEVENT
BEGIN:VEVENT
DTSTART;VALUE=DATE:20211022
DTEND;VALUE=DATE:20211025
DTSTAMP:20260425T224227
CREATED:20210407T051026Z
LAST-MODIFIED:20210621T085929Z
UID:5297-1634860800-1635119999@rshecc.es
SUMMARY:Trofeo Caser Seguros de Croquet GC
DESCRIPTION:Modalidad Dobles
URL:https://rshecc.es/evento/trofeo-caser-seguros-2/
CATEGORIES:Croquet
ATTACH;FMTTYPE=image/jpeg:https://rshecc.es/wp-content/uploads/2021/04/CaserSeguros.jpg
END:VEVENT
BEGIN:VEVENT
DTSTART;TZID=Europe/Madrid:20211020T100000
DTEND;TZID=Europe/Madrid:20211020T140000
DTSTAMP:20260425T224227
CREATED:20210805T141640Z
LAST-MODIFIED:20210805T141640Z
UID:6211-1634724000-1634738400@rshecc.es
SUMMARY:Puntuable Damas y Caballeros
DESCRIPTION:Stableford
URL:https://rshecc.es/evento/puntuable-damas-y-caballeros-5/
CATEGORIES:Golf
ATTACH;FMTTYPE=image/jpeg:https://rshecc.es/wp-content/uploads/2021/04/events-golf-mix.jpg
END:VEVENT
BEGIN:VEVENT
DTSTART;VALUE=DATE:20211016
DTEND;VALUE=DATE:20211018
DTSTAMP:20260425T224227
CREATED:20210927T155318Z
LAST-MODIFIED:20210927T155342Z
UID:6396-1634342400-1634515199@rshecc.es
SUMMARY:Copa Presidente de Tenis Femenino
DESCRIPTION:La competición se celebra en horario de mañana.\nInscripciones del 25 de septiembre al 12 de octubre
URL:https://rshecc.es/evento/copa-presidente-de-tenis-femenino/
CATEGORIES:Tenis y Pádel
ATTACH;FMTTYPE=image/jpeg:https://rshecc.es/wp-content/uploads/2021/05/events-tenis-1.jpg
END:VEVENT
BEGIN:VEVENT
DTSTART;VALUE=DATE:20211015
DTEND;VALUE=DATE:20211018
DTSTAMP:20260425T224227
CREATED:20210805T141536Z
LAST-MODIFIED:20210921T051248Z
UID:6209-1634256000-1634515199@rshecc.es
SUMMARY:Campeonato Individual Damas (World Amateur Golf Ranking)
DESCRIPTION:Su normativa
URL:https://rshecc.es/evento/campeonato-individual-damas-world-amateur-golf-ranking/
CATEGORIES:Golf
ATTACH;FMTTYPE=image/png:https://rshecc.es/wp-content/uploads/2021/08/event-wagr-damas.png
END:VEVENT
BEGIN:VEVENT
DTSTART;VALUE=DATE:20211015
DTEND;VALUE=DATE:20211018
DTSTAMP:20260425T224227
CREATED:20210805T141406Z
LAST-MODIFIED:20210805T141406Z
UID:6207-1634256000-1634515199@rshecc.es
SUMMARY:Croquet: Abierto de Otoño
DESCRIPTION:Individual
URL:https://rshecc.es/evento/croquet-abierto-de-otono/
CATEGORIES:Croquet
ATTACH;FMTTYPE=image/jpeg:https://rshecc.es/wp-content/uploads/2021/04/events-croquet.jpg
END:VEVENT
BEGIN:VEVENT
DTSTART;VALUE=DATE:20211010
DTEND;VALUE=DATE:20211013
DTSTAMP:20260425T224227
CREATED:20210805T140932Z
LAST-MODIFIED:20210805T141301Z
UID:6201-1633824000-1634083199@rshecc.es
SUMMARY:Campeonato Individual Caballeros (World Amateur Golf Ranking)
DESCRIPTION:Su normativa
URL:https://rshecc.es/evento/campeonato-individual-caballeros-world-amateur-golf-ranking/
CATEGORIES:Golf
ATTACH;FMTTYPE=image/png:https://rshecc.es/wp-content/uploads/2021/08/events-wagr-3.png
END:VEVENT
BEGIN:VEVENT
DTSTART;TZID=Europe/Madrid:20211009T083000
DTEND;TZID=Europe/Madrid:20211009T150000
DTSTAMP:20260425T224227
CREATED:20210805T140405Z
LAST-MODIFIED:20210805T140822Z
UID:6199-1633768200-1633791600@rshecc.es
SUMMARY:Campeonato Individual Damas >18\,4 y Caballeros >11\,5
DESCRIPTION:Su normativa
URL:https://rshecc.es/evento/campeonato-individual-damas-184-y-caballeros-115/
CATEGORIES:Golf
ATTACH;FMTTYPE=image/jpeg:https://rshecc.es/wp-content/uploads/2021/01/events-golf-mix.jpg
END:VEVENT
BEGIN:VEVENT
DTSTART;TZID=Europe/Madrid:20211006T100000
DTEND;TZID=Europe/Madrid:20211006T140000
DTSTAMP:20260425T224227
CREATED:20210805T140203Z
LAST-MODIFIED:20210805T140203Z
UID:6197-1633514400-1633528800@rshecc.es
SUMMARY:Puntuable Damas y Caballeros
DESCRIPTION:Stableford
URL:https://rshecc.es/evento/puntuable-damas-y-caballeros-4/
CATEGORIES:Golf
ATTACH;FMTTYPE=image/jpeg:https://rshecc.es/wp-content/uploads/2021/05/event-golf-summer.jpg
END:VEVENT
BEGIN:VEVENT
DTSTART;TZID=Europe/Madrid:20211003T083000
DTEND;TZID=Europe/Madrid:20211003T150000
DTSTAMP:20260425T224227
CREATED:20210802T084600Z
LAST-MODIFIED:20210802T084600Z
UID:6188-1633249800-1633273200@rshecc.es
SUMMARY:Copa Presidente Damas y 2ª Categoría Caballeros (≥11\,5)
DESCRIPTION:Su normativa
URL:https://rshecc.es/evento/copa-presidente-damas-y-2a-categoria-caballeros-%e2%89%a5115/
CATEGORIES:Golf
ATTACH;FMTTYPE=image/jpeg:https://rshecc.es/wp-content/uploads/2021/04/events-golf-mix.jpg
END:VEVENT
BEGIN:VEVENT
DTSTART;VALUE=DATE:20211003
DTEND;VALUE=DATE:20211004
DTSTAMP:20260425T224227
CREATED:20210802T084826Z
LAST-MODIFIED:20210802T084826Z
UID:6192-1633219200-1633305599@rshecc.es
SUMMARY:Puntuable Juvenil
DESCRIPTION:Stableford
URL:https://rshecc.es/evento/puntuable-juvenil-2/
CATEGORIES:Golf
ATTACH;FMTTYPE=image/jpeg:https://rshecc.es/wp-content/uploads/2021/04/events-golf-juvenil2.jpg
END:VEVENT
BEGIN:VEVENT
DTSTART;VALUE=DATE:20211003
DTEND;VALUE=DATE:20211004
DTSTAMP:20260425T224227
CREATED:20210802T084734Z
LAST-MODIFIED:20210802T084734Z
UID:6190-1633219200-1633305599@rshecc.es
SUMMARY:Liga Damas Pares 3
DESCRIPTION:Stableford
URL:https://rshecc.es/evento/liga-damas-pares-3/
CATEGORIES:Golf
ATTACH;FMTTYPE=image/jpeg:https://rshecc.es/wp-content/uploads/2021/04/events-golf-woman.jpg
END:VEVENT
BEGIN:VEVENT
DTSTART;TZID=Europe/Madrid:20211002T140000
DTEND;TZID=Europe/Madrid:20211002T160000
DTSTAMP:20260425T224227
CREATED:20210730T103752Z
LAST-MODIFIED:20210730T103752Z
UID:6185-1633183200-1633190400@rshecc.es
SUMMARY:Puntuable Juvenil
DESCRIPTION:Stableford
URL:https://rshecc.es/evento/puntuable-juvenil/
CATEGORIES:Golf
ATTACH;FMTTYPE=image/jpeg:https://rshecc.es/wp-content/uploads/2021/04/events-golf-juvenil2.jpg
END:VEVENT
BEGIN:VEVENT
DTSTART;TZID=Europe/Madrid:20211002T140000
DTEND;TZID=Europe/Madrid:20211002T160000
DTSTAMP:20260425T224227
CREATED:20210730T103639Z
LAST-MODIFIED:20210730T103639Z
UID:6183-1633183200-1633190400@rshecc.es
SUMMARY:Liga Damas 9 Hoyos Largos
DESCRIPTION:Stableford
URL:https://rshecc.es/evento/liga-damas-9-hoyos-largos-2/
CATEGORIES:Golf
ATTACH;FMTTYPE=image/jpeg:https://rshecc.es/wp-content/uploads/2021/04/events-golf-woman.jpg
END:VEVENT
BEGIN:VEVENT
DTSTART;TZID=Europe/Madrid:20211002T083000
DTEND;TZID=Europe/Madrid:20211002T150000
DTSTAMP:20260425T224227
CREATED:20210730T103503Z
LAST-MODIFIED:20210730T103503Z
UID:6181-1633163400-1633186800@rshecc.es
SUMMARY:Copa Presidente 1ª Categoría Caballeros (≤11\,4)
DESCRIPTION:Su normativa
URL:https://rshecc.es/evento/copa-presidente-1a-categoria-caballeros-%e2%89%a4114/
CATEGORIES:Golf
ATTACH;FMTTYPE=image/jpeg:https://rshecc.es/wp-content/uploads/2021/04/events-golf.jpg
END:VEVENT
BEGIN:VEVENT
DTSTART;VALUE=DATE:20211001
DTEND;VALUE=DATE:20211004
DTSTAMP:20260425T224227
CREATED:20210730T101753Z
LAST-MODIFIED:20210730T101753Z
UID:6179-1633046400-1633305599@rshecc.es
SUMMARY:Croquet Santa Teresa
DESCRIPTION:Por equipos
URL:https://rshecc.es/evento/croquet-santa-teresa/
CATEGORIES:Croquet
ATTACH;FMTTYPE=image/jpeg:https://rshecc.es/wp-content/uploads/2020/08/events-croquet.jpg
END:VEVENT
BEGIN:VEVENT
DTSTART;VALUE=DATE:20210925
DTEND;VALUE=DATE:20210927
DTSTAMP:20260425T224227
CREATED:20210730T101042Z
LAST-MODIFIED:20210907T082343Z
UID:6175-1632528000-1632700799@rshecc.es
SUMMARY:Mapfre Golf Tournament
DESCRIPTION:Horario de ambos días: de 08:30 a 15:00 horas \n \n+ Descargar normativa
URL:https://rshecc.es/evento/mapfre-golf-tournament/
CATEGORIES:Golf
ATTACH;FMTTYPE=image/jpeg:https://rshecc.es/wp-content/uploads/2021/07/events-mapfre.jpg
END:VEVENT
BEGIN:VEVENT
DTSTART;TZID=Europe/Madrid:20210920T093000
DTEND;TZID=Europe/Madrid:20210920T143000
DTSTAMP:20260425T224227
CREATED:20210730T100837Z
LAST-MODIFIED:20210730T100837Z
UID:6173-1632130200-1632148200@rshecc.es
SUMMARY:Social Damas (Válido para el Ranking Scratch FGM)
DESCRIPTION:Su normativa
URL:https://rshecc.es/evento/social-damas-valido-para-el-ranking-scratch-fgm/
CATEGORIES:Golf
ATTACH;FMTTYPE=image/jpeg:https://rshecc.es/wp-content/uploads/2021/04/events-golf-woman.jpg
END:VEVENT
BEGIN:VEVENT
DTSTART;VALUE=DATE:20210918
DTEND;VALUE=DATE:20210920
DTSTAMP:20260425T224227
CREATED:20210621T072233Z
LAST-MODIFIED:20210621T072314Z
UID:5973-1631923200-1632095999@rshecc.es
SUMMARY:Croquet: Retorno Verano
DESCRIPTION:Social Individual
URL:https://rshecc.es/evento/retorno-verano/
CATEGORIES:Croquet
ATTACH;FMTTYPE=image/jpeg:https://rshecc.es/wp-content/uploads/2021/06/Eventos-Croquet.jpg
END:VEVENT
BEGIN:VEVENT
DTSTART;VALUE=DATE:20210724
DTEND;VALUE=DATE:20210726
DTSTAMP:20260425T224227
CREATED:20210610T095741Z
LAST-MODIFIED:20210610T095741Z
UID:5903-1627084800-1627257599@rshecc.es
SUMMARY:RFEG Campeonato de España Interclubes Femenino 2021
DESCRIPTION:Su normativa / Horario: 03:30 – 15:00
URL:https://rshecc.es/evento/rfeg-campeonato-de-espana-interclubes-femenino-2021/
CATEGORIES:Golf
ATTACH;FMTTYPE=image/jpeg:https://rshecc.es/wp-content/uploads/2021/06/00rfgolf.jpg
END:VEVENT
BEGIN:VEVENT
DTSTART;TZID=Europe/Madrid:20210717T083000
DTEND;TZID=Europe/Madrid:20210717T150000
DTSTAMP:20260425T224227
CREATED:20210610T095344Z
LAST-MODIFIED:20210610T095601Z
UID:5900-1626510600-1626534000@rshecc.es
SUMMARY:Golf Adaptado F.G.M.
DESCRIPTION:Su normativa
URL:https://rshecc.es/evento/golf-adaptado-f-g-m/
CATEGORIES:Golf
ATTACH;FMTTYPE=image/png:https://rshecc.es/wp-content/uploads/2021/06/01fgm.png
END:VEVENT
BEGIN:VEVENT
DTSTART;TZID=Europe/Madrid:20210714T100000
DTEND;TZID=Europe/Madrid:20210714T140000
DTSTAMP:20260425T224227
CREATED:20210610T094850Z
LAST-MODIFIED:20210610T095224Z
UID:5898-1626256800-1626271200@rshecc.es
SUMMARY:Puntuable Damas y Caballeros
DESCRIPTION:Stableford
URL:https://rshecc.es/evento/puntuable-damas-y-caballeros-3/
CATEGORIES:Golf
ATTACH;FMTTYPE=image/jpeg:https://rshecc.es/wp-content/uploads/2021/04/events-golf-mix.jpg
END:VEVENT
BEGIN:VEVENT
DTSTART;VALUE=DATE:20210705
DTEND;VALUE=DATE:20210706
DTSTAMP:20260425T224227
CREATED:20210525T104039Z
LAST-MODIFIED:20210525T104039Z
UID:5688-1625443200-1625529599@rshecc.es
SUMMARY:Social Damas
DESCRIPTION:
URL:https://rshecc.es/evento/social-damas-2/
CATEGORIES:Golf
ATTACH;FMTTYPE=image/jpeg:https://rshecc.es/wp-content/uploads/2021/04/events-golf-woman.jpg
END:VEVENT
BEGIN:VEVENT
DTSTART;TZID=Europe/Madrid:20210703T083000
DTEND;TZID=Europe/Madrid:20210703T150000
DTSTAMP:20260425T224227
CREATED:20210629T144319Z
LAST-MODIFIED:20210629T144319Z
UID:6064-1625301000-1625324400@rshecc.es
SUMMARY:Comité Equipos de 4
DESCRIPTION:Equipos Stableford
URL:https://rshecc.es/evento/comite-equipos-de-4/
CATEGORIES:Golf
ATTACH;FMTTYPE=image/jpeg:https://rshecc.es/wp-content/uploads/2021/05/event-golf-summer.jpg
END:VEVENT
BEGIN:VEVENT
DTSTART;TZID=Europe/Madrid:20210627T083000
DTEND;TZID=Europe/Madrid:20210627T150000
DTSTAMP:20260425T224227
CREATED:20210610T093425Z
LAST-MODIFIED:20210610T100159Z
UID:5886-1624782600-1624806000@rshecc.es
SUMMARY:Audi Quattro Cup Duo
DESCRIPTION:Parejas Greensome
URL:https://rshecc.es/evento/audi-quattro-cup-duo-2/
CATEGORIES:Golf
ATTACH;FMTTYPE=image/png:https://rshecc.es/wp-content/uploads/2021/06/Audiblack.png
END:VEVENT
BEGIN:VEVENT
DTSTART;TZID=Europe/Madrid:20210626T090000
DTEND;TZID=Europe/Madrid:20210626T130000
DTSTAMP:20260425T224227
CREATED:20210524T082534Z
LAST-MODIFIED:20210524T082534Z
UID:5647-1624698000-1624712400@rshecc.es
SUMMARY:Torneo Social de Tenis Masculino
DESCRIPTION:
URL:https://rshecc.es/evento/torneo-social-de-tenis-masculino/
CATEGORIES:Tenis y Pádel
ATTACH;FMTTYPE=image/jpeg:https://rshecc.es/wp-content/uploads/2021/05/events-tenis.jpg
END:VEVENT
BEGIN:VEVENT
DTSTART;TZID=Europe/Madrid:20210626T083000
DTEND;TZID=Europe/Madrid:20210626T150000
DTSTAMP:20260425T224227
CREATED:20210610T092405Z
LAST-MODIFIED:20210610T100127Z
UID:5881-1624696200-1624719600@rshecc.es
SUMMARY:Audi Quattro Cup Duo
DESCRIPTION:Parejas Greensome
URL:https://rshecc.es/evento/audi-quattro-cup-duo/
CATEGORIES:Golf
ATTACH;FMTTYPE=image/png:https://rshecc.es/wp-content/uploads/2021/06/Audiblack.png
END:VEVENT
BEGIN:VEVENT
DTSTART;VALUE=DATE:20210624
DTEND;VALUE=DATE:20210625
DTSTAMP:20260425T224227
CREATED:20210525T100544Z
LAST-MODIFIED:20210525T100544Z
UID:5686-1624492800-1624579199@rshecc.es
SUMMARY:Juvenil
DESCRIPTION:
URL:https://rshecc.es/evento/juvenil/
CATEGORIES:Golf
ATTACH;FMTTYPE=image/jpeg:https://rshecc.es/wp-content/uploads/2021/05/events-golf-juvenil.jpg
END:VEVENT
BEGIN:VEVENT
DTSTART;TZID=Europe/Madrid:20210621T100000
DTEND;TZID=Europe/Madrid:20210621T140000
DTSTAMP:20260425T224227
CREATED:20210517T102554Z
LAST-MODIFIED:20210520T081215Z
UID:5565-1624269600-1624284000@rshecc.es
SUMMARY:Social Séniores Caballeros
DESCRIPTION:Stableford
URL:https://rshecc.es/evento/social-seniores-caballeros-3/
CATEGORIES:Golf
ATTACH;FMTTYPE=image/jpeg:https://rshecc.es/wp-content/uploads/2021/04/events-golf.jpg
END:VEVENT
BEGIN:VEVENT
DTSTART;TZID=Europe/Madrid:20210620T083000
DTEND;TZID=Europe/Madrid:20210620T150000
DTSTAMP:20260425T224227
CREATED:20210610T092018Z
LAST-MODIFIED:20210610T092018Z
UID:5879-1624177800-1624201200@rshecc.es
SUMMARY:Social Primavera Juveniles y Mayores (>29\,5 Caballeros; >23\,5 Damas)
DESCRIPTION:Stableford
URL:https://rshecc.es/evento/social-primavera-juveniles-y-mayores-295-caballeros-235-damas/
CATEGORIES:Golf
ATTACH;FMTTYPE=image/jpeg:https://rshecc.es/wp-content/uploads/2021/04/events-golf-mix.jpg
END:VEVENT
END:VCALENDAR